BEGIN:VCALENDAR
VERSION:2.0
PRODID:-//Schifffahrtsgesellschaft Stoos - ECPv6.15.18//NONSGML v1.0//EN
CALSCALE:GREGORIAN
METHOD:PUBLISH
X-ORIGINAL-URL:https://www.sgs-stoos.ch
X-WR-CALDESC:Veranstaltungen für Schifffahrtsgesellschaft Stoos
REFRESH-INTERVAL;VALUE=DURATION:PT1H
X-Robots-Tag:noindex
X-PUBLISHED-TTL:PT1H
BEGIN:VTIMEZONE
TZID:Europe/Zurich
BEGIN:DAYLIGHT
TZOFFSETFROM:+0100
TZOFFSETTO:+0200
TZNAME:CEST
DTSTART:20250330T010000
END:DAYLIGHT
BEGIN:STANDARD
TZOFFSETFROM:+0200
TZOFFSETTO:+0100
TZNAME:CET
DTSTART:20251026T010000
END:STANDARD
BEGIN:DAYLIGHT
TZOFFSETFROM:+0100
TZOFFSETTO:+0200
TZNAME:CEST
DTSTART:20260329T010000
END:DAYLIGHT
BEGIN:STANDARD
TZOFFSETFROM:+0200
TZOFFSETTO:+0100
TZNAME:CET
DTSTART:20261025T010000
END:STANDARD
BEGIN:DAYLIGHT
TZOFFSETFROM:+0100
TZOFFSETTO:+0200
TZNAME:CEST
DTSTART:20270328T010000
END:DAYLIGHT
BEGIN:STANDARD
TZOFFSETFROM:+0200
TZOFFSETTO:+0100
TZNAME:CET
DTSTART:20271031T010000
END:STANDARD
END:VTIMEZONE
BEGIN:VEVENT
DTSTART;TZID=Europe/Zurich:20260516T160000
DTEND;TZID=Europe/Zurich:20260516T180000
DTSTAMP:20260419T184255
CREATED:20260318T180509Z
LAST-MODIFIED:20260328T145749Z
UID:679-1778947200-1778954400@www.sgs-stoos.ch
SUMMARY: Anfischen 
DESCRIPTION: Sportsbar  \n\n\n\n\n  \n\n\n\n\nAbsageTeilnahme\n \n Anzahl Personen\n\n\n Dein Name\n\n\n Deine E-Mail-Adresse\n\n\n \nLoading...\n \n\n Δ
URL:https://www.sgs-stoos.ch/?tribe_events=anfischen
END:VEVENT
BEGIN:VEVENT
DTSTART;TZID=Europe/Zurich:20260703T173000
DTEND;TZID=Europe/Zurich:20260703T213000
DTSTAMP:20260419T184255
CREATED:20260318T181712Z
LAST-MODIFIED:20260318T181713Z
UID:681-1783099800-1783114200@www.sgs-stoos.ch
SUMMARY:Spaghetti-Plausch 
DESCRIPTION: Gipfelrestaurant Fronalpstock  \n\n\n\nTreffpunkt: 17:00 Froni Sessel TalstationRückfahrt: 21:30   \n\n\n\n\n  \n\n\n\nAbsage\nTeilname\n \n Anzahl Personen\n\n \n Dein Name\n \n \n Deine E-Mail-Adresse\n \n \n\n Δ
URL:https://www.sgs-stoos.ch/?tribe_events=spaghetti-plausch
END:VEVENT
BEGIN:VEVENT
DTSTART;TZID=Europe/Zurich:20260808T150000
DTEND;TZID=Europe/Zurich:20260808T180000
DTSTAMP:20260419T184255
CREATED:20260318T182621Z
LAST-MODIFIED:20260318T182728Z
UID:683-1786201200-1786212000@www.sgs-stoos.ch
SUMMARY:Fischessen 
DESCRIPTION: Stoos-Seeli  \n\n\n\n(Schlechtwetter: Sternegg Wintergarten\, da Alpstubli Baustelle)  \n\n\n\n\n  \n\n\n\n\nAbsageTeilnahme\n \nAnzahl Personen\n\n \nDein Name\n\n \nSelber fischen\nJaNein\n \nEssen:\nFischWurst\n \nDeine E-Mail-Adresse\n\n\nLoading...\n\n Δ
URL:https://www.sgs-stoos.ch/?tribe_events=fischessen
END:VEVENT
BEGIN:VEVENT
DTSTART;TZID=Europe/Zurich:20260918T180000
DTEND;TZID=Europe/Zurich:20260918T210000
DTSTAMP:20260419T184255
CREATED:20260318T182952Z
LAST-MODIFIED:20260318T182955Z
UID:685-1789754400-1789765200@www.sgs-stoos.ch
SUMMARY:Grillabend 
DESCRIPTION: Stooshüttä  \n\n\n\n\n  \n\n\n\nAbsage\nTeilname\n \n Anzahl Personen\n\n \n Dein Name\n \n \n Deine E-Mail-Adresse\n \n \nLoading...\n \n\n Δ
URL:https://www.sgs-stoos.ch/?tribe_events=grillabend
END:VEVENT
BEGIN:VEVENT
DTSTART;TZID=Europe/Zurich:20261031T160000
DTEND;TZID=Europe/Zurich:20261031T180000
DTSTAMP:20260419T184255
CREATED:20260318T183332Z
LAST-MODIFIED:20260319T102202Z
UID:687-1793462400-1793469600@www.sgs-stoos.ch
SUMMARY:Ausfischen
DESCRIPTION:Bergsonne \n\n\n\n\n  \n\n\n\nAbsage\nTeilname\n \n Anzahl Personen\n\n \n Dein Name\n \n \n Deine E-Mail-Adresse\n \n \nLoading...\n\n Δ
URL:https://www.sgs-stoos.ch/?tribe_events=ausfischen
END:VEVENT
END:VCALENDAR